BEGIN:VCALENDAR
VERSION:2.0
PRODID:-//D2P - ECPv4.6.12//NONSGML v1.0//EN
CALSCALE:GREGORIAN
METHOD:PUBLISH
X-WR-CALNAME:D2P
X-ORIGINAL-URL:https://www.d2p.lu
X-WR-CALDESC:Events for D2P
BEGIN:VEVENT
DTSTART;TZID=Europe/Paris:20180626T000000
DTEND;TZID=Europe/Paris:20180626T000000
DTSTAMP:20180623T064634
CREATED:20180313T105848Z
LAST-MODIFIED:20180606T071800Z
UID:1982-1529971200-1529971200@www.d2p.lu
SUMMARY:26-06-2018@Spa-Francorchamps
DESCRIPTION:
URL:https://www.d2p.lu/event/25-06-2018spa-francorchamps/
END:VEVENT
BEGIN:VEVENT
DTSTART;TZID=Europe/Paris:20180709T000000
DTEND;TZID=Europe/Paris:20180709T000000
DTSTAMP:20180623T064634
CREATED:20180313T105851Z
LAST-MODIFIED:20180424T131844Z
UID:1983-1531094400-1531094400@www.d2p.lu
SUMMARY:09-07-2018@Spa-Francorchamps
DESCRIPTION:
URL:https://www.d2p.lu/event/09-07-2018spa-francorchamps/
END:VEVENT
BEGIN:VEVENT
DTSTART;TZID=Europe/Paris:20180711T000000
DTEND;TZID=Europe/Paris:20180711T000000
DTSTAMP:20180623T064634
CREATED:20180313T105853Z
LAST-MODIFIED:20180424T131127Z
UID:1984-1531267200-1531267200@www.d2p.lu
SUMMARY:11-07-2018@Spa-Francorchamps
DESCRIPTION:
URL:https://www.d2p.lu/event/11-07-2018spa-francorchamps/
END:VEVENT
BEGIN:VEVENT
DTSTART;TZID=Europe/Paris:20180730T000000
DTEND;TZID=Europe/Paris:20180730T000000
DTSTAMP:20180623T064634
CREATED:20180313T105901Z
LAST-MODIFIED:20180424T131250Z
UID:1987-1532908800-1532908800@www.d2p.lu
SUMMARY:30-07-2018@Spa-Francorchamps
DESCRIPTION:
URL:https://www.d2p.lu/event/30-07-2018spa-francorchamps/
END:VEVENT
BEGIN:VEVENT
DTSTART;TZID=Europe/Paris:20180806T000000
DTEND;TZID=Europe/Paris:20180806T000000
DTSTAMP:20180623T064634
CREATED:20180313T105906Z
LAST-MODIFIED:20180424T131429Z
UID:1988-1533513600-1533513600@www.d2p.lu
SUMMARY:06-08-2018@Spa-Francorchamps
DESCRIPTION:
URL:https://www.d2p.lu/event/06-08-2018spa-francorchamps/
END:VEVENT
BEGIN:VEVENT
DTSTART;TZID=Europe/Paris:20180807T000000
DTEND;TZID=Europe/Paris:20180807T000000
DTSTAMP:20180623T064634
CREATED:20180313T105910Z
LAST-MODIFIED:20180423T080643Z
UID:1989-1533600000-1533600000@www.d2p.lu
SUMMARY:07-08-2018@Spa-Francorchamps
DESCRIPTION:
URL:https://www.d2p.lu/event/07-08-2018spa-francorchamps/
END:VEVENT
BEGIN:VEVENT
DTSTART;TZID=Europe/Paris:20180808T000000
DTEND;TZID=Europe/Paris:20180808T000000
DTSTAMP:20180623T064634
CREATED:20180313T105912Z
LAST-MODIFIED:20180423T080610Z
UID:1990-1533686400-1533686400@www.d2p.lu
SUMMARY:08-08-2018@Spa-Francorchamps
DESCRIPTION:
URL:https://www.d2p.lu/event/08-08-2018spa-francorchamps/
END:VEVENT
BEGIN:VEVENT
DTSTART;TZID=Europe/Paris:20180822T000000
DTEND;TZID=Europe/Paris:20180822T000000
DTSTAMP:20180623T064634
CREATED:20180313T105915Z
LAST-MODIFIED:20180423T080532Z
UID:1991-1534896000-1534896000@www.d2p.lu
SUMMARY:22-08-2018@Magny-Cours
DESCRIPTION:
URL:https://www.d2p.lu/event/22-08-2018magny-cours/
END:VEVENT
BEGIN:VEVENT
DTSTART;TZID=Europe/Paris:20180904T000000
DTEND;TZID=Europe/Paris:20180904T000000
DTSTAMP:20180623T064634
CREATED:20180313T105919Z
LAST-MODIFIED:20180424T131948Z
UID:1992-1536019200-1536019200@www.d2p.lu
SUMMARY:04-09-2018@Spa-Francorchamps
DESCRIPTION:
URL:https://www.d2p.lu/event/04-09-2018spa-francorchamps/
END:VEVENT
BEGIN:VEVENT
DTSTART;TZID=Europe/Paris:20180905T000000
DTEND;TZID=Europe/Paris:20180905T000000
DTSTAMP:20180623T064634
CREATED:20180313T105922Z
LAST-MODIFIED:20180423T081412Z
UID:1993-1536105600-1536105600@www.d2p.lu
SUMMARY:05-09-2018@Spa-Francorchamps
DESCRIPTION:
URL:https://www.d2p.lu/event/05-09-2018spa-francorchamps/
END:VEVENT
BEGIN:VEVENT
DTSTART;TZID=Europe/Paris:20180918T000000
DTEND;TZID=Europe/Paris:20180918T000000
DTSTAMP:20180623T064634
CREATED:20180313T105925Z
LAST-MODIFIED:20180424T132134Z
UID:1994-1537228800-1537228800@www.d2p.lu
SUMMARY:18-09-2018@Spa-Francorchamps
DESCRIPTION:
URL:https://www.d2p.lu/event/18-09-2018spa-francorchamps/
END:VEVENT
BEGIN:VEVENT
DTSTART;TZID=Europe/Paris:20180924T000000
DTEND;TZID=Europe/Paris:20180924T000000
DTSTAMP:20180623T064634
CREATED:20180313T105927Z
LAST-MODIFIED:20180424T132240Z
UID:1995-1537747200-1537747200@www.d2p.lu
SUMMARY:24-09-2018@Spa-Francorchamps
DESCRIPTION:
URL:https://www.d2p.lu/event/24-09-2018spa-francorchamps/
END:VEVENT
BEGIN:VEVENT
DTSTART;TZID=Europe/Paris:20180925T000000
DTEND;TZID=Europe/Paris:20180925T000000
DTSTAMP:20180623T064634
CREATED:20180313T105930Z
LAST-MODIFIED:20180424T132433Z
UID:1996-1537833600-1537833600@www.d2p.lu
SUMMARY:25-09-2018@Spa-Francorchamps
DESCRIPTION:
URL:https://www.d2p.lu/event/25-09-2018spa-francorchamps/
END:VEVENT
BEGIN:VEVENT
DTSTART;TZID=Europe/Paris:20181005T000000
DTEND;TZID=Europe/Paris:20181005T000000
DTSTAMP:20180623T064634
CREATED:20180313T105934Z
LAST-MODIFIED:20180423T081608Z
UID:1997-1538697600-1538697600@www.d2p.lu
SUMMARY:05-10-2018@Circuit Paul Ricard
DESCRIPTION:
URL:https://www.d2p.lu/event/05-10-2018circuit-paul-ricard/
END:VEVENT
BEGIN:VEVENT
DTSTART;TZID=Europe/Paris:20181009T000000
DTEND;TZID=Europe/Paris:20181009T000000
DTSTAMP:20180623T064634
CREATED:20180313T105937Z
LAST-MODIFIED:20180423T081637Z
UID:1998-1539043200-1539043200@www.d2p.lu
SUMMARY:09-10-2018@Circuit Paul Ricard
DESCRIPTION:
URL:https://www.d2p.lu/event/09-10-2018circuit-paul-ricard/
END:VEVENT
BEGIN:VEVENT
DTSTART;TZID=Europe/Paris:20181010T000000
DTEND;TZID=Europe/Paris:20181010T000000
DTSTAMP:20180623T064634
CREATED:20180313T105939Z
LAST-MODIFIED:20180423T081707Z
UID:1999-1539129600-1539129600@www.d2p.lu
SUMMARY:10-10-2018@Circuit Paul Ricard
DESCRIPTION:
URL:https://www.d2p.lu/event/10-10-2018circuit-paul-ricard/
END:VEVENT
BEGIN:VEVENT
DTSTART;TZID=Europe/Paris:20181015T000000
DTEND;TZID=Europe/Paris:20181015T000000
DTSTAMP:20180623T064634
CREATED:20180313T105941Z
LAST-MODIFIED:20180423T081735Z
UID:2000-1539561600-1539561600@www.d2p.lu
SUMMARY:15-10-2018@Mugello
DESCRIPTION:
URL:https://www.d2p.lu/event/15-10-2018mugello/
END:VEVENT
BEGIN:VEVENT
DTSTART;TZID=Europe/Paris:20181016T000000
DTEND;TZID=Europe/Paris:20181016T000000
DTSTAMP:20180623T064634
CREATED:20180313T105943Z
LAST-MODIFIED:20180423T081809Z
UID:2001-1539648000-1539648000@www.d2p.lu
SUMMARY:16-10-2018@Mugello
DESCRIPTION:
URL:https://www.d2p.lu/event/16-10-2018mugello/
END:VEVENT
BEGIN:VEVENT
DTSTART;TZID=Europe/Paris:20181020T000000
DTEND;TZID=Europe/Paris:20181020T000000
DTSTAMP:20180623T064634
CREATED:20180313T105945Z
LAST-MODIFIED:20180424T132613Z
UID:2002-1539993600-1539993600@www.d2p.lu
SUMMARY:20-10-2018@Spa-Francorchamps
DESCRIPTION:
URL:https://www.d2p.lu/event/20-10-2018spa-francorchamps/
END:VEVENT
BEGIN:VEVENT
DTSTART;TZID=Europe/Paris:20181022T000000
DTEND;TZID=Europe/Paris:20181022T000000
DTSTAMP:20180623T064634
CREATED:20180313T105947Z
LAST-MODIFIED:20180423T081853Z
UID:2003-1540166400-1540166400@www.d2p.lu
SUMMARY:22-10-2018@Spa-Francorchamps
DESCRIPTION:
URL:https://www.d2p.lu/event/22-10-2018spa-francorchamps/
END:VEVENT
BEGIN:VEVENT
DTSTART;TZID=Europe/Paris:20181023T000000
DTEND;TZID=Europe/Paris:20181023T000000
DTSTAMP:20180623T064634
CREATED:20180313T105949Z
LAST-MODIFIED:20180423T081927Z
UID:2004-1540252800-1540252800@www.d2p.lu
SUMMARY:23-10-2018@Spa-Francorchamps
DESCRIPTION:
URL:https://www.d2p.lu/event/23-10-2018spa-francorchamps/
END:VEVENT
BEGIN:VEVENT
DTSTART;TZID=Europe/Paris:20181103T000000
DTEND;TZID=Europe/Paris:20181103T000000
DTSTAMP:20180623T064634
CREATED:20180313T105952Z
LAST-MODIFIED:20180424T132648Z
UID:2005-1541203200-1541203200@www.d2p.lu
SUMMARY:03-11-2018@Spa-Francorchamps
DESCRIPTION:
URL:https://www.d2p.lu/event/03-11-2018spa-francorchamps/
END:VEVENT
END:VCALENDAR